BEGIN:VCALENDAR
VERSION:2.0
PRODID:-//77.72.1.52//NONSGML kigkonsult.se iCalcreator 2.20//
CALSCALE:GREGORIAN
METHOD:PUBLISH
X-WR-TIMEZONE:Europe/London
BEGIN:VEVENT
UID:event22@National Albacore Association
DTSTAMP:20260421T052658Z
CATEGORIES:Open TT
DESCRIPTION:Winsford Flash Open\nCategory: Open TT\nLink: https://www.albac
 ore.org.uk/alb/index.php?option=com_jem&view=event&id=22:winsford-flash-op
 en\n
DTSTART;VALUE=DATE:20190615
DTEND;VALUE=DATE:20190616
LOCATION:Winsford Flash SC\,Stocks Hill\,CW7 4EE Winsford
SUMMARY:Winsford Flash Open
URL:https://www.albacore.org.uk/alb/index.php?option=com_jem&view=event&id=
 22:winsford-flash-open
END:VEVENT
END:VCALENDAR
