BEGIN:VCALENDAR
VERSION:2.0
PRODID:-//77.72.1.52//NONSGML kigkonsult.se iCalcreator 2.20//
CALSCALE:GREGORIAN
METHOD:PUBLISH
X-WR-TIMEZONE:Europe/London
BEGIN:VEVENT
UID:event26@National Albacore Association
DTSTAMP:20260421T035313Z
CATEGORIES:Area
DESCRIPTION:NATIONALS CHAMPIONSHIP\nCategory: Area\nLink: https://www.albac
 ore.org.uk/alb/index.php?option=com_jem&view=event&id=26:nationals-champio
 nship\n
DTSTART;VALUE=DATE:20160812
DTEND;VALUE=DATE:20160815
LOCATION:Llandudno SC\,Irving Rd\,LL30 1BB Llandudno
SUMMARY:NATIONALS CHAMPIONSHIP
URL:https://www.albacore.org.uk/alb/index.php?option=com_jem&view=event&id=
 26:nationals-championship
END:VEVENT
END:VCALENDAR
