BEGIN:VCALENDAR
VERSION:2.0
PRODID:-//77.72.1.52//NONSGML kigkonsult.se iCalcreator 2.20//
CALSCALE:GREGORIAN
METHOD:PUBLISH
X-WR-TIMEZONE:Europe/London
BEGIN:VEVENT
UID:event33@National Albacore Association
DTSTAMP:20260421T050450Z
CATEGORIES:Open TT
DESCRIPTION:Stewartby Open\nCategory: Open TT\nLink: https://www.albacore.o
 rg.uk/alb/index.php?option=com_jem&view=event&id=33:stewartby-open\n
DTSTART;VALUE=DATE:20150516
DTEND;VALUE=DATE:20150517
LOCATION:Stewartby WSC\,Green Lane\,MK43 9LY Stewartby
SUMMARY:Stewartby Open
URL:https://www.albacore.org.uk/alb/index.php?option=com_jem&view=event&id=
 33:stewartby-open
END:VEVENT
END:VCALENDAR
