BEGIN:VCALENDAR
VERSION:2.0
PRODID:-//77.72.1.52//NONSGML kigkonsult.se iCalcreator 2.20//
CALSCALE:GREGORIAN
METHOD:PUBLISH
X-WR-TIMEZONE:Europe/London
BEGIN:VEVENT
UID:event45@National Albacore Association
DTSTAMP:20260421T041211Z
CATEGORIES:Area
DESCRIPTION:BRIGHTLINGSEA SOUTHERNS\nCategory: Area\nLink: https://www.alba
 core.org.uk/alb/index.php?option=com_jem&view=event&id=45:brightlingsea\n
DTSTART;VALUE=DATE:20190518
DTEND;VALUE=DATE:20190520
LOCATION:Brightlingsea Sailing Club\,Oyster Tank Road\,CO7 0BA Brightlingse
 a
SUMMARY:BRIGHTLINGSEA SOUTHERNS
URL:https://www.albacore.org.uk/alb/index.php?option=com_jem&view=event&id=
 45:brightlingsea
END:VEVENT
END:VCALENDAR
